BEGIN:VCALENDAR
VERSION:2.0
PRODID:-//Association of Partners in Christian Education - ECPv6.15.17//NONSGML v1.0//EN
CALSCALE:GREGORIAN
METHOD:PUBLISH
X-WR-CALNAME:Association of Partners in Christian Education
X-ORIGINAL-URL:https://apcenet.org
X-WR-CALDESC:Events for Association of Partners in Christian Education
REFRESH-INTERVAL;VALUE=DURATION:PT1H
X-Robots-Tag:noindex
X-PUBLISHED-TTL:PT1H
BEGIN:VTIMEZONE
TZID:America/New_York
BEGIN:DAYLIGHT
TZOFFSETFROM:-0500
TZOFFSETTO:-0400
TZNAME:EDT
DTSTART:20190310T070000
END:DAYLIGHT
BEGIN:STANDARD
TZOFFSETFROM:-0400
TZOFFSETTO:-0500
TZNAME:EST
DTSTART:20191103T060000
END:STANDARD
BEGIN:DAYLIGHT
TZOFFSETFROM:-0500
TZOFFSETTO:-0400
TZNAME:EDT
DTSTART:20200308T070000
END:DAYLIGHT
BEGIN:STANDARD
TZOFFSETFROM:-0400
TZOFFSETTO:-0500
TZNAME:EST
DTSTART:20201101T060000
END:STANDARD
BEGIN:DAYLIGHT
TZOFFSETFROM:-0500
TZOFFSETTO:-0400
TZNAME:EDT
DTSTART:20210314T070000
END:DAYLIGHT
BEGIN:STANDARD
TZOFFSETFROM:-0400
TZOFFSETTO:-0500
TZNAME:EST
DTSTART:20211107T060000
END:STANDARD
END:VTIMEZONE
BEGIN:VEVENT
DTSTART;TZID=America/New_York:20201110T150000
DTEND;TZID=America/New_York:20201110T160000
DTSTAMP:20260419T122457
CREATED:20201001T175111Z
LAST-MODIFIED:20201026T200735Z
UID:11956-1605020400-1605024000@apcenet.org
SUMMARY:Soul Care for Christian Educators: 11/10
DESCRIPTION:Join us for Soul Care for Christian Educators. \nRegister for the Zoom Chat at https://us02web.zoom.us/meeting/register/tZIoceCvqzwjE9A5arARw04cn06dbffR00OB \nNote: The success of interaction on ZOOM meetings may depend on your individual browser and security settings of which APCE has no control.
URL:https://apcenet.org/event/soul-care-for-christian-educators-11-10/
LOCATION:Indiana
CATEGORIES:APCE Zoom Gathering,Upcoming
ATTACH;FMTTYPE=image/png:https://apcenet.org/wp-content/uploads/2020/10/Soul-Care-for-Christian-Educators.png
END:VEVENT
END:VCALENDAR