BEGIN:VCALENDAR
VERSION:2.0
PRODID:-//Association of Partners in Christian Education - ECPv6.15.17//NONSGML v1.0//EN
CALSCALE:GREGORIAN
METHOD:PUBLISH
X-WR-CALNAME:Association of Partners in Christian Education
X-ORIGINAL-URL:https://apcenet.org
X-WR-CALDESC:Events for Association of Partners in Christian Education
REFRESH-INTERVAL;VALUE=DURATION:PT1H
X-Robots-Tag:noindex
X-PUBLISHED-TTL:PT1H
BEGIN:VTIMEZONE
TZID:America/New_York
BEGIN:DAYLIGHT
TZOFFSETFROM:-0500
TZOFFSETTO:-0400
TZNAME:EDT
DTSTART:20200308T070000
END:DAYLIGHT
BEGIN:STANDARD
TZOFFSETFROM:-0400
TZOFFSETTO:-0500
TZNAME:EST
DTSTART:20201101T060000
END:STANDARD
BEGIN:DAYLIGHT
TZOFFSETFROM:-0500
TZOFFSETTO:-0400
TZNAME:EDT
DTSTART:20210314T070000
END:DAYLIGHT
BEGIN:STANDARD
TZOFFSETFROM:-0400
TZOFFSETTO:-0500
TZNAME:EST
DTSTART:20211107T060000
END:STANDARD
BEGIN:DAYLIGHT
TZOFFSETFROM:-0500
TZOFFSETTO:-0400
TZNAME:EDT
DTSTART:20220313T070000
END:DAYLIGHT
BEGIN:STANDARD
TZOFFSETFROM:-0400
TZOFFSETTO:-0500
TZNAME:EST
DTSTART:20221106T060000
END:STANDARD
END:VTIMEZONE
BEGIN:VEVENT
DTSTART;TZID=America/New_York:20210513T180000
DTEND;TZID=America/New_York:20210513T190000
DTSTAMP:20260421T094233
CREATED:20210405T183541Z
LAST-MODIFIED:20220405T172251Z
UID:20567-1620928800-1620932400@apcenet.org
SUMMARY:Curriculum Webinar – Follow Me: Biblical Practices for Faithful Living
DESCRIPTION:APCE is hosting a webinar about a new curriculum for your whole church coming July 2021. Follow Me: Biblical Practices for Faithful Living focuses on studying the Bible through the lens of faith practices. At this webinar we will be taking an in-depth look at this curriculum and how you might use it with your congregation. Sign up to attend the webinar today! \nFollow Me: Biblical Practices for Faithful Living is a thirty-six-unit curriculum based on practices Jesus did and taught us to do as faithful followers. Written for people of all ages who wish to live out their faith\, this new curriculum examines where these practices are found in the Bible and how they have been used in Christian faith then and now. \nKatie Snyder a Certified Christian Educator works for Presbyterian Publishing Corporation as their curriculum specialist and POINT coordinator. She previously served as a Director of Christian Education for nearly a decade at churches in and around northern Virginia. Katie aspires to faithfully seek God while encouraging and empowering others to do the same. \nRegister: https://us02web.zoom.us/webinar/register/WN_P0JMX8alQyiKPRzZ152oYA
URL:https://apcenet.org/event/curriculum-webinar-follow-me-biblical-practices-for-faithful-living/
LOCATION:online
CATEGORIES:APCE Webinars,Upcoming
ATTACH;FMTTYPE=image/png:https://apcenet.org/wp-content/uploads/2021/04/FM-APCE-Webinar-v3.png
END:VEVENT
END:VCALENDAR