BEGIN:VCALENDAR
VERSION:2.0
PRODID:-//Association of Partners in Christian Education - ECPv6.15.17//NONSGML v1.0//EN
CALSCALE:GREGORIAN
METHOD:PUBLISH
X-WR-CALNAME:Association of Partners in Christian Education
X-ORIGINAL-URL:https://apcenet.org
X-WR-CALDESC:Events for Association of Partners in Christian Education
REFRESH-INTERVAL;VALUE=DURATION:PT1H
X-Robots-Tag:noindex
X-PUBLISHED-TTL:PT1H
BEGIN:VTIMEZONE
TZID:America/New_York
BEGIN:DAYLIGHT
TZOFFSETFROM:-0500
TZOFFSETTO:-0400
TZNAME:EDT
DTSTART:20230312T070000
END:DAYLIGHT
BEGIN:STANDARD
TZOFFSETFROM:-0400
TZOFFSETTO:-0500
TZNAME:EST
DTSTART:20231105T060000
END:STANDARD
BEGIN:DAYLIGHT
TZOFFSETFROM:-0500
TZOFFSETTO:-0400
TZNAME:EDT
DTSTART:20240310T070000
END:DAYLIGHT
BEGIN:STANDARD
TZOFFSETFROM:-0400
TZOFFSETTO:-0500
TZNAME:EST
DTSTART:20241103T060000
END:STANDARD
BEGIN:DAYLIGHT
TZOFFSETFROM:-0500
TZOFFSETTO:-0400
TZNAME:EDT
DTSTART:20250309T070000
END:DAYLIGHT
BEGIN:STANDARD
TZOFFSETFROM:-0400
TZOFFSETTO:-0500
TZNAME:EST
DTSTART:20251102T060000
END:STANDARD
BEGIN:DAYLIGHT
TZOFFSETFROM:-0500
TZOFFSETTO:-0400
TZNAME:EDT
DTSTART:20260308T070000
END:DAYLIGHT
BEGIN:STANDARD
TZOFFSETFROM:-0400
TZOFFSETTO:-0500
TZNAME:EST
DTSTART:20261101T060000
END:STANDARD
END:VTIMEZONE
BEGIN:VEVENT
DTSTART;TZID=America/New_York:20250217T100000
DTEND;TZID=America/New_York:20250217T150000
DTSTAMP:20260420T205512
CREATED:20250124T191240Z
LAST-MODIFIED:20250124T191240Z
UID:76054-1739786400-1739804400@apcenet.org
SUMMARY:APCE Polity Course Winter 2025
DESCRIPTION:In partnership with the Office of Christian Formation of the Presbyterian Mission Agency\, the Association of Partners in Christian Education (APCE) is pleased to offer an online course in Presbyterian Polity. The course is available to Christian Educators in the certification process\, Commissioned Ruling Elders or those that are preparing for a commission\, or leaders in 1001 New Worshipping Communities. At this time the class will only be offered in English. Registration is available until the class limit is reached. \n\nCost is $100. \nDates: February 17\, 19\, 21; 2 sessions each day: AM session: 10:00–12:00; PM session: 1:00 – 3:00; All times Eastern (Feb 21 PM session for CREs and NWC Leaders) \n  \nRegister at APCE Polity Course Winter 2025 | Association of Partners in Christian Education
URL:https://apcenet.org/event/apce-polity-course-winter-2025/
LOCATION:Zoom
CATEGORIES:Advocacy,APCE Webinars,APCE Zoom Gathering,Certification,home featured events,Upcoming
ATTACH;FMTTYPE=image/png:https://apcenet.org/wp-content/uploads/2025/01/Join-Dr.-Cheryl-Carson-as-she-helps-you-explore-the-mission-of-the-PCU.S.A.-and-the-many-program-resources-available-from-the-denomination-and-its-mid-councils.-2.png
END:VEVENT
BEGIN:VEVENT
DTSTART;TZID=America/New_York:20241003T120000
DTEND;TZID=America/New_York:20241003T140000
DTSTAMP:20260420T205512
CREATED:20240423T004354Z
LAST-MODIFIED:20241001T132438Z
UID:68277-1727956800-1727964000@apcenet.org
SUMMARY:PC(USA) Polity Course
DESCRIPTION:In partnership with the Office of Christian Formation of the Presbyterian Mission Agency\, the Association of Partners in Christian Education (APCE) is pleased to offer an online course in Presbyterian Polity. The course is available to Christian Educators in the certification process\, Commissioned Ruling Elders or those that are preparing for a commission\, leaders in 1001 New Worshipping Communities and any other leaders wanting to learn more about the denomination. At this time the class will only be offered in English. \nSYLLABUS Presbyterian Polity October 2024 \n\nCost is $100. \nIf you take this class and PC(USA) Program and Mission class is $175.  For more information on the PC(USA) Program and Mission: https://apcenet.org/event/pcusa-program-and-mission-course/2024-08-15/ \nCourse will meet on Zoom: \nThursday\, October 3   noon-2:00 pm EST \nThursday\, October 10 noon-2:00 pm EST \nThursday\, October 17 noon-2:00 pm EST \nThursday\, October 24 noon-2:00 pm EST \nThursday\, October 31 noon-2:00 pm EST \nFor more information on the PC(USA) Program and Mission Course: https://apcenet.org/event/pcusa-program-and-mission-course/2024-08-15/ \nRegister Here \nRegistration closes on September 15th at 5pm EST
URL:https://apcenet.org/event/pcusa-polity-course/
LOCATION:online
CATEGORIES:Advocacy,APCE Webinars,Certification,home featured events,Upcoming
ATTACH;FMTTYPE=image/png:https://apcenet.org/wp-content/uploads/2024/04/Join-Dr.-Cheryl-Carson-as-she-helps-you-explore-the-mission-of-the-PCU.S.A.-and-the-many-program-resources-available-from-the-denomination-and-its-mid-councils.png
END:VEVENT
BEGIN:VEVENT
DTSTART;TZID=America/New_York:20241003T120000
DTEND;TZID=America/New_York:20241003T140000
DTSTAMP:20260420T205512
CREATED:20240423T004354Z
LAST-MODIFIED:20241001T132438Z
UID:68277-1727956800-1727964000@apcenet.org
SUMMARY:PC(USA) Polity Course
DESCRIPTION:In partnership with the Office of Christian Formation of the Presbyterian Mission Agency\, the Association of Partners in Christian Education (APCE) is pleased to offer an online course in Presbyterian Polity. The course is available to Christian Educators in the certification process\, Commissioned Ruling Elders or those that are preparing for a commission\, leaders in 1001 New Worshipping Communities and any other leaders wanting to learn more about the denomination. At this time the class will only be offered in English. \nSYLLABUS Presbyterian Polity October 2024 \n\nCost is $100. \nIf you take this class and PC(USA) Program and Mission class is $175.  For more information on the PC(USA) Program and Mission: https://apcenet.org/event/pcusa-program-and-mission-course/2024-08-15/ \nCourse will meet on Zoom: \nThursday\, October 3   noon-2:00 pm EST \nThursday\, October 10 noon-2:00 pm EST \nThursday\, October 17 noon-2:00 pm EST \nThursday\, October 24 noon-2:00 pm EST \nThursday\, October 31 noon-2:00 pm EST \nFor more information on the PC(USA) Program and Mission Course: https://apcenet.org/event/pcusa-program-and-mission-course/2024-08-15/ \nRegister Here \nRegistration closes on September 15th at 5pm EST
URL:https://apcenet.org/event/pcusa-polity-course/
LOCATION:online
CATEGORIES:Advocacy,APCE Webinars,Certification,home featured events,Upcoming
ATTACH;FMTTYPE=image/png:https://apcenet.org/wp-content/uploads/2024/04/Join-Dr.-Cheryl-Carson-as-she-helps-you-explore-the-mission-of-the-PCU.S.A.-and-the-many-program-resources-available-from-the-denomination-and-its-mid-councils.png
END:VEVENT
BEGIN:VEVENT
DTSTART;TZID=America/New_York:20241003T120000
DTEND;TZID=America/New_York:20241003T140000
DTSTAMP:20260420T205512
CREATED:20240423T004354Z
LAST-MODIFIED:20241001T132438Z
UID:68277-1727956800-1727964000@apcenet.org
SUMMARY:PC(USA) Polity Course
DESCRIPTION:In partnership with the Office of Christian Formation of the Presbyterian Mission Agency\, the Association of Partners in Christian Education (APCE) is pleased to offer an online course in Presbyterian Polity. The course is available to Christian Educators in the certification process\, Commissioned Ruling Elders or those that are preparing for a commission\, leaders in 1001 New Worshipping Communities and any other leaders wanting to learn more about the denomination. At this time the class will only be offered in English. \nSYLLABUS Presbyterian Polity October 2024 \n\nCost is $100. \nIf you take this class and PC(USA) Program and Mission class is $175.  For more information on the PC(USA) Program and Mission: https://apcenet.org/event/pcusa-program-and-mission-course/2024-08-15/ \nCourse will meet on Zoom: \nThursday\, October 3   noon-2:00 pm EST \nThursday\, October 10 noon-2:00 pm EST \nThursday\, October 17 noon-2:00 pm EST \nThursday\, October 24 noon-2:00 pm EST \nThursday\, October 31 noon-2:00 pm EST \nFor more information on the PC(USA) Program and Mission Course: https://apcenet.org/event/pcusa-program-and-mission-course/2024-08-15/ \nRegister Here \nRegistration closes on September 15th at 5pm EST
URL:https://apcenet.org/event/pcusa-polity-course/
LOCATION:online
CATEGORIES:Advocacy,APCE Webinars,Certification,home featured events,Upcoming
ATTACH;FMTTYPE=image/png:https://apcenet.org/wp-content/uploads/2024/04/Join-Dr.-Cheryl-Carson-as-she-helps-you-explore-the-mission-of-the-PCU.S.A.-and-the-many-program-resources-available-from-the-denomination-and-its-mid-councils.png
END:VEVENT
BEGIN:VEVENT
DTSTART;TZID=America/New_York:20241003T120000
DTEND;TZID=America/New_York:20241003T140000
DTSTAMP:20260420T205512
CREATED:20240423T004354Z
LAST-MODIFIED:20241001T132438Z
UID:68277-1727956800-1727964000@apcenet.org
SUMMARY:PC(USA) Polity Course
DESCRIPTION:In partnership with the Office of Christian Formation of the Presbyterian Mission Agency\, the Association of Partners in Christian Education (APCE) is pleased to offer an online course in Presbyterian Polity. The course is available to Christian Educators in the certification process\, Commissioned Ruling Elders or those that are preparing for a commission\, leaders in 1001 New Worshipping Communities and any other leaders wanting to learn more about the denomination. At this time the class will only be offered in English. \nSYLLABUS Presbyterian Polity October 2024 \n\nCost is $100. \nIf you take this class and PC(USA) Program and Mission class is $175.  For more information on the PC(USA) Program and Mission: https://apcenet.org/event/pcusa-program-and-mission-course/2024-08-15/ \nCourse will meet on Zoom: \nThursday\, October 3   noon-2:00 pm EST \nThursday\, October 10 noon-2:00 pm EST \nThursday\, October 17 noon-2:00 pm EST \nThursday\, October 24 noon-2:00 pm EST \nThursday\, October 31 noon-2:00 pm EST \nFor more information on the PC(USA) Program and Mission Course: https://apcenet.org/event/pcusa-program-and-mission-course/2024-08-15/ \nRegister Here \nRegistration closes on September 15th at 5pm EST
URL:https://apcenet.org/event/pcusa-polity-course/
LOCATION:online
CATEGORIES:Advocacy,APCE Webinars,Certification,home featured events,Upcoming
ATTACH;FMTTYPE=image/png:https://apcenet.org/wp-content/uploads/2024/04/Join-Dr.-Cheryl-Carson-as-she-helps-you-explore-the-mission-of-the-PCU.S.A.-and-the-many-program-resources-available-from-the-denomination-and-its-mid-councils.png
END:VEVENT
BEGIN:VEVENT
DTSTART;VALUE=DATE:20240815
DTEND;VALUE=DATE:20240816
DTSTAMP:20260420T205512
CREATED:20240423T003528Z
LAST-MODIFIED:20240802T004518Z
UID:68271-1723680000-1723766399@apcenet.org
SUMMARY:PC(USA) Program and Mission Course
DESCRIPTION:In partnership with the Office of Christian Formation of the Presbyterian Mission Agency\, the Association of Partners in Christian Education (APCE) is pleased to offer two online courses: Presbyterian Program and Mission and Presbyterian Polity.  The courses are available to Christian Educators in the certification process Commissioned Ruling Elders/Pastors already commissioned or in the educational phase of their preparation\, those leaders in 1001 New Worshipping Communities who are fluent in English and other leaders wanting to learn more the denomination. \nSYLLABUS Program and Mission APCE September 2024 \nCost is $100. \nIf you take this class and PC(USA) Polity class is $175.  For more information on the PC(USA) Polity: https://apcenet.org/event/pcusa-polity-course/2024-10-03     THIS OFFER HAS ENDED \n\nThe Program and Mission course will officially begin on August 15th to allow for some prep work before we begin our Zoom classes.\n\nClasses will meet on Zoom on these dates: \nThursday\, September 5th          1:00 – 3:30 ET \nThursday\, September 12th       1:00 – 3:30 ET \nThursday\, September 19th       1:00 – 3:30 ET \nThursday\, September 26th       1:00 – 3:30 ET \nFor questions or further information\, please be in touch with APCE Certification Course Coordinator Billie Sutter at billiepsutter@gmail.com. \nInformation regarding this class \nRegistration is now closed.
URL:https://apcenet.org/event/pcusa-program-and-mission-course/
LOCATION:online
CATEGORIES:Advocacy,APCE Webinars,Certification,home featured events,Upcoming
ATTACH;FMTTYPE=image/png:https://apcenet.org/wp-content/uploads/2024/04/Want-to-dip-into-the-w.png
END:VEVENT
BEGIN:VEVENT
DTSTART;VALUE=DATE:20240815
DTEND;VALUE=DATE:20240816
DTSTAMP:20260420T205512
CREATED:20240423T003528Z
LAST-MODIFIED:20240802T004518Z
UID:68271-1723680000-1723766399@apcenet.org
SUMMARY:PC(USA) Program and Mission Course
DESCRIPTION:In partnership with the Office of Christian Formation of the Presbyterian Mission Agency\, the Association of Partners in Christian Education (APCE) is pleased to offer two online courses: Presbyterian Program and Mission and Presbyterian Polity.  The courses are available to Christian Educators in the certification process Commissioned Ruling Elders/Pastors already commissioned or in the educational phase of their preparation\, those leaders in 1001 New Worshipping Communities who are fluent in English and other leaders wanting to learn more the denomination. \nSYLLABUS Program and Mission APCE September 2024 \nCost is $100. \nIf you take this class and PC(USA) Polity class is $175.  For more information on the PC(USA) Polity: https://apcenet.org/event/pcusa-polity-course/2024-10-03     THIS OFFER HAS ENDED \n\nThe Program and Mission course will officially begin on August 15th to allow for some prep work before we begin our Zoom classes.\n\nClasses will meet on Zoom on these dates: \nThursday\, September 5th          1:00 – 3:30 ET \nThursday\, September 12th       1:00 – 3:30 ET \nThursday\, September 19th       1:00 – 3:30 ET \nThursday\, September 26th       1:00 – 3:30 ET \nFor questions or further information\, please be in touch with APCE Certification Course Coordinator Billie Sutter at billiepsutter@gmail.com. \nInformation regarding this class \nRegistration is now closed.
URL:https://apcenet.org/event/pcusa-program-and-mission-course/
LOCATION:online
CATEGORIES:Advocacy,APCE Webinars,Certification,home featured events,Upcoming
ATTACH;FMTTYPE=image/png:https://apcenet.org/wp-content/uploads/2024/04/Want-to-dip-into-the-w.png
END:VEVENT
BEGIN:VEVENT
DTSTART;VALUE=DATE:20240815
DTEND;VALUE=DATE:20240816
DTSTAMP:20260420T205512
CREATED:20240423T003528Z
LAST-MODIFIED:20240802T004518Z
UID:68271-1723680000-1723766399@apcenet.org
SUMMARY:PC(USA) Program and Mission Course
DESCRIPTION:In partnership with the Office of Christian Formation of the Presbyterian Mission Agency\, the Association of Partners in Christian Education (APCE) is pleased to offer two online courses: Presbyterian Program and Mission and Presbyterian Polity.  The courses are available to Christian Educators in the certification process Commissioned Ruling Elders/Pastors already commissioned or in the educational phase of their preparation\, those leaders in 1001 New Worshipping Communities who are fluent in English and other leaders wanting to learn more the denomination. \nSYLLABUS Program and Mission APCE September 2024 \nCost is $100. \nIf you take this class and PC(USA) Polity class is $175.  For more information on the PC(USA) Polity: https://apcenet.org/event/pcusa-polity-course/2024-10-03     THIS OFFER HAS ENDED \n\nThe Program and Mission course will officially begin on August 15th to allow for some prep work before we begin our Zoom classes.\n\nClasses will meet on Zoom on these dates: \nThursday\, September 5th          1:00 – 3:30 ET \nThursday\, September 12th       1:00 – 3:30 ET \nThursday\, September 19th       1:00 – 3:30 ET \nThursday\, September 26th       1:00 – 3:30 ET \nFor questions or further information\, please be in touch with APCE Certification Course Coordinator Billie Sutter at billiepsutter@gmail.com. \nInformation regarding this class \nRegistration is now closed.
URL:https://apcenet.org/event/pcusa-program-and-mission-course/
LOCATION:online
CATEGORIES:Advocacy,APCE Webinars,Certification,home featured events,Upcoming
ATTACH;FMTTYPE=image/png:https://apcenet.org/wp-content/uploads/2024/04/Want-to-dip-into-the-w.png
END:VEVENT
BEGIN:VEVENT
DTSTART;VALUE=DATE:20240815
DTEND;VALUE=DATE:20240816
DTSTAMP:20260420T205512
CREATED:20240423T003528Z
LAST-MODIFIED:20240802T004518Z
UID:68271-1723680000-1723766399@apcenet.org
SUMMARY:PC(USA) Program and Mission Course
DESCRIPTION:In partnership with the Office of Christian Formation of the Presbyterian Mission Agency\, the Association of Partners in Christian Education (APCE) is pleased to offer two online courses: Presbyterian Program and Mission and Presbyterian Polity.  The courses are available to Christian Educators in the certification process Commissioned Ruling Elders/Pastors already commissioned or in the educational phase of their preparation\, those leaders in 1001 New Worshipping Communities who are fluent in English and other leaders wanting to learn more the denomination. \nSYLLABUS Program and Mission APCE September 2024 \nCost is $100. \nIf you take this class and PC(USA) Polity class is $175.  For more information on the PC(USA) Polity: https://apcenet.org/event/pcusa-polity-course/2024-10-03     THIS OFFER HAS ENDED \n\nThe Program and Mission course will officially begin on August 15th to allow for some prep work before we begin our Zoom classes.\n\nClasses will meet on Zoom on these dates: \nThursday\, September 5th          1:00 – 3:30 ET \nThursday\, September 12th       1:00 – 3:30 ET \nThursday\, September 19th       1:00 – 3:30 ET \nThursday\, September 26th       1:00 – 3:30 ET \nFor questions or further information\, please be in touch with APCE Certification Course Coordinator Billie Sutter at billiepsutter@gmail.com. \nInformation regarding this class \nRegistration is now closed.
URL:https://apcenet.org/event/pcusa-program-and-mission-course/
LOCATION:online
CATEGORIES:Advocacy,APCE Webinars,Certification,home featured events,Upcoming
ATTACH;FMTTYPE=image/png:https://apcenet.org/wp-content/uploads/2024/04/Want-to-dip-into-the-w.png
END:VEVENT
BEGIN:VEVENT
DTSTART;VALUE=DATE:20240815
DTEND;VALUE=DATE:20240816
DTSTAMP:20260420T205512
CREATED:20240423T003528Z
LAST-MODIFIED:20240802T004518Z
UID:68271-1723680000-1723766399@apcenet.org
SUMMARY:PC(USA) Program and Mission Course
DESCRIPTION:In partnership with the Office of Christian Formation of the Presbyterian Mission Agency\, the Association of Partners in Christian Education (APCE) is pleased to offer two online courses: Presbyterian Program and Mission and Presbyterian Polity.  The courses are available to Christian Educators in the certification process Commissioned Ruling Elders/Pastors already commissioned or in the educational phase of their preparation\, those leaders in 1001 New Worshipping Communities who are fluent in English and other leaders wanting to learn more the denomination. \nSYLLABUS Program and Mission APCE September 2024 \nCost is $100. \nIf you take this class and PC(USA) Polity class is $175.  For more information on the PC(USA) Polity: https://apcenet.org/event/pcusa-polity-course/2024-10-03     THIS OFFER HAS ENDED \n\nThe Program and Mission course will officially begin on August 15th to allow for some prep work before we begin our Zoom classes.\n\nClasses will meet on Zoom on these dates: \nThursday\, September 5th          1:00 – 3:30 ET \nThursday\, September 12th       1:00 – 3:30 ET \nThursday\, September 19th       1:00 – 3:30 ET \nThursday\, September 26th       1:00 – 3:30 ET \nFor questions or further information\, please be in touch with APCE Certification Course Coordinator Billie Sutter at billiepsutter@gmail.com. \nInformation regarding this class \nRegistration is now closed.
URL:https://apcenet.org/event/pcusa-program-and-mission-course/
LOCATION:online
CATEGORIES:Advocacy,APCE Webinars,Certification,home featured events,Upcoming
ATTACH;FMTTYPE=image/png:https://apcenet.org/wp-content/uploads/2024/04/Want-to-dip-into-the-w.png
END:VEVENT
END:VCALENDAR