BEGIN:VCALENDAR
VERSION:2.0
PRODID:-//Association of Partners in Christian Education - ECPv6.15.17//NONSGML v1.0//EN
CALSCALE:GREGORIAN
METHOD:PUBLISH
X-ORIGINAL-URL:https://apcenet.org
X-WR-CALDESC:Events for Association of Partners in Christian Education
REFRESH-INTERVAL;VALUE=DURATION:PT1H
X-Robots-Tag:noindex
X-PUBLISHED-TTL:PT1H
BEGIN:VTIMEZONE
TZID:America/New_York
BEGIN:DAYLIGHT
TZOFFSETFROM:-0500
TZOFFSETTO:-0400
TZNAME:EDT
DTSTART:20240310T070000
END:DAYLIGHT
BEGIN:STANDARD
TZOFFSETFROM:-0400
TZOFFSETTO:-0500
TZNAME:EST
DTSTART:20241103T060000
END:STANDARD
BEGIN:DAYLIGHT
TZOFFSETFROM:-0500
TZOFFSETTO:-0400
TZNAME:EDT
DTSTART:20250309T070000
END:DAYLIGHT
BEGIN:STANDARD
TZOFFSETFROM:-0400
TZOFFSETTO:-0500
TZNAME:EST
DTSTART:20251102T060000
END:STANDARD
BEGIN:DAYLIGHT
TZOFFSETFROM:-0500
TZOFFSETTO:-0400
TZNAME:EDT
DTSTART:20260308T070000
END:DAYLIGHT
BEGIN:STANDARD
TZOFFSETFROM:-0400
TZOFFSETTO:-0500
TZNAME:EST
DTSTART:20261101T060000
END:STANDARD
END:VTIMEZONE
BEGIN:VEVENT
DTSTART;VALUE=DATE:20250127
DTEND;VALUE=DATE:20250130
DTSTAMP:20260420T075609
CREATED:20240305T142328Z
LAST-MODIFIED:20240305T155416Z
UID:67146-1737936000-1738195199@apcenet.org
SUMMARY:Worship and Sacraments Certification Course January 2025
DESCRIPTION:APCE will offer a certification course in Worship and Sacraments as a pre-event to the Annual Event in Memphis in January 25. Specific dates and registration details will be available closer to the event.
URL:https://apcenet.org/event/worship-and-sacraments-certification-course-january-2025/
CATEGORIES:APCE Webinars,APCE Zoom Gathering,Certification,home featured events,Upcoming
END:VEVENT
END:VCALENDAR