BEGIN:VCALENDAR
VERSION:2.0
PRODID:-//Association of Partners in Christian Education - ECPv6.15.17//NONSGML v1.0//EN
CALSCALE:GREGORIAN
METHOD:PUBLISH
X-WR-CALNAME:Association of Partners in Christian Education
X-ORIGINAL-URL:https://apcenet.org
X-WR-CALDESC:Events for Association of Partners in Christian Education
REFRESH-INTERVAL;VALUE=DURATION:PT1H
X-Robots-Tag:noindex
X-PUBLISHED-TTL:PT1H
BEGIN:VTIMEZONE
TZID:America/New_York
BEGIN:DAYLIGHT
TZOFFSETFROM:-0500
TZOFFSETTO:-0400
TZNAME:EDT
DTSTART:20230312T070000
END:DAYLIGHT
BEGIN:STANDARD
TZOFFSETFROM:-0400
TZOFFSETTO:-0500
TZNAME:EST
DTSTART:20231105T060000
END:STANDARD
BEGIN:DAYLIGHT
TZOFFSETFROM:-0500
TZOFFSETTO:-0400
TZNAME:EDT
DTSTART:20240310T070000
END:DAYLIGHT
BEGIN:STANDARD
TZOFFSETFROM:-0400
TZOFFSETTO:-0500
TZNAME:EST
DTSTART:20241103T060000
END:STANDARD
BEGIN:DAYLIGHT
TZOFFSETFROM:-0500
TZOFFSETTO:-0400
TZNAME:EDT
DTSTART:20250309T070000
END:DAYLIGHT
BEGIN:STANDARD
TZOFFSETFROM:-0400
TZOFFSETTO:-0500
TZNAME:EST
DTSTART:20251102T060000
END:STANDARD
END:VTIMEZONE
BEGIN:VEVENT
DTSTART;VALUE=DATE:20240815
DTEND;VALUE=DATE:20240816
DTSTAMP:20260421T070225
CREATED:20240423T003528Z
LAST-MODIFIED:20240802T004518Z
UID:68271-1723680000-1723766399@apcenet.org
SUMMARY:PC(USA) Program and Mission Course
DESCRIPTION:In partnership with the Office of Christian Formation of the Presbyterian Mission Agency\, the Association of Partners in Christian Education (APCE) is pleased to offer two online courses: Presbyterian Program and Mission and Presbyterian Polity.  The courses are available to Christian Educators in the certification process Commissioned Ruling Elders/Pastors already commissioned or in the educational phase of their preparation\, those leaders in 1001 New Worshipping Communities who are fluent in English and other leaders wanting to learn more the denomination. \nSYLLABUS Program and Mission APCE September 2024 \nCost is $100. \nIf you take this class and PC(USA) Polity class is $175.  For more information on the PC(USA) Polity: https://apcenet.org/event/pcusa-polity-course/2024-10-03     THIS OFFER HAS ENDED \n\nThe Program and Mission course will officially begin on August 15th to allow for some prep work before we begin our Zoom classes.\n\nClasses will meet on Zoom on these dates: \nThursday\, September 5th          1:00 – 3:30 ET \nThursday\, September 12th       1:00 – 3:30 ET \nThursday\, September 19th       1:00 – 3:30 ET \nThursday\, September 26th       1:00 – 3:30 ET \nFor questions or further information\, please be in touch with APCE Certification Course Coordinator Billie Sutter at billiepsutter@gmail.com. \nInformation regarding this class \nRegistration is now closed.
URL:https://apcenet.org/event/pcusa-program-and-mission-course/
LOCATION:online
CATEGORIES:Advocacy,APCE Webinars,Certification,home featured events,Upcoming
ATTACH;FMTTYPE=image/png:https://apcenet.org/wp-content/uploads/2024/04/Want-to-dip-into-the-w.png
END:VEVENT
BEGIN:VEVENT
DTSTART;TZID=America/New_York:20240905T140000
DTEND;TZID=America/New_York:20240905T150000
DTSTAMP:20260421T070225
CREATED:20240731T141350Z
LAST-MODIFIED:20240828T154136Z
UID:69064-1725544800-1725548400@apcenet.org
SUMMARY:August 2024 Book Club
DESCRIPTION:PLEASE NOTE THE DATE CHANGE TO Sept 5th \n \n The Reading List \nDo you find yourself awash in pages and pages of professional reading but very little reading for your soul\, for your self-care\, for your well of well being? Then look NO FURTHER!  APCE has just launched a Book Club for any and all members who would like to gather to read\, explore\, and dive into books both fiction and non-fiction\, “work related” and just for fun!  \n  \nThe group will meet monthly via Zoom with NO requirement to make each and every meeting! Come as you can\, enjoy the fellowship of fellow educators and simply find some respite in books! \nRegister at https://apcenet.org/book-club-sign-up
URL:https://apcenet.org/event/august-2024-book-club/
LOCATION:Indiana
CATEGORIES:APCE Webinars,APCE Zoom Gathering,Bookclub,home featured events,Upcoming
ATTACH;FMTTYPE=image/jpeg:https://apcenet.org/wp-content/uploads/2024/07/OIP-9.jpg
END:VEVENT
BEGIN:VEVENT
DTSTART;VALUE=DATE:20240815
DTEND;VALUE=DATE:20240816
DTSTAMP:20260421T070225
CREATED:20240423T003528Z
LAST-MODIFIED:20240802T004518Z
UID:68271-1723680000-1723766399@apcenet.org
SUMMARY:PC(USA) Program and Mission Course
DESCRIPTION:In partnership with the Office of Christian Formation of the Presbyterian Mission Agency\, the Association of Partners in Christian Education (APCE) is pleased to offer two online courses: Presbyterian Program and Mission and Presbyterian Polity.  The courses are available to Christian Educators in the certification process Commissioned Ruling Elders/Pastors already commissioned or in the educational phase of their preparation\, those leaders in 1001 New Worshipping Communities who are fluent in English and other leaders wanting to learn more the denomination. \nSYLLABUS Program and Mission APCE September 2024 \nCost is $100. \nIf you take this class and PC(USA) Polity class is $175.  For more information on the PC(USA) Polity: https://apcenet.org/event/pcusa-polity-course/2024-10-03     THIS OFFER HAS ENDED \n\nThe Program and Mission course will officially begin on August 15th to allow for some prep work before we begin our Zoom classes.\n\nClasses will meet on Zoom on these dates: \nThursday\, September 5th          1:00 – 3:30 ET \nThursday\, September 12th       1:00 – 3:30 ET \nThursday\, September 19th       1:00 – 3:30 ET \nThursday\, September 26th       1:00 – 3:30 ET \nFor questions or further information\, please be in touch with APCE Certification Course Coordinator Billie Sutter at billiepsutter@gmail.com. \nInformation regarding this class \nRegistration is now closed.
URL:https://apcenet.org/event/pcusa-program-and-mission-course/
LOCATION:online
CATEGORIES:Advocacy,APCE Webinars,Certification,home featured events,Upcoming
ATTACH;FMTTYPE=image/png:https://apcenet.org/wp-content/uploads/2024/04/Want-to-dip-into-the-w.png
END:VEVENT
BEGIN:VEVENT
DTSTART;TZID=America/New_York:20240912T190000
DTEND;TZID=America/New_York:20240912T200000
DTSTAMP:20260421T070225
CREATED:20240730T202758Z
LAST-MODIFIED:20240911T210814Z
UID:69042-1726167600-1726171200@apcenet.org
SUMMARY:Embracing Neurodiversity Class
DESCRIPTION:Class description:\nEmbracing Neurodiversity in your Ministry and Church.\n\n\nIn our ministries we are seeing more and more students who have ADHD\, Dyslexia\, and Autism. When we create spaces to welcome those on the spectrum of neurodiversity\, everyone benefits. Giving families\, children and adults the space to embrace how their brain works is a beautiful way to live into God’s dream. We will cover basic tools and strategies in Christian Education for Neurodiversity and how to partner with families. There are practical ways we can create space for kids and adults in our communities\, and I would love to share them with you. These are tools you can take back to your church and feel equipped to welcome neurodiversity into your church home. \nAllie Atchison is the director of children and family ministries at New Hope Presbyterian church in Castle Rock Colorado. I am dyslexic\, who married a man with ADHD and we are raising a thoughtful and kind little girl who is on the Autism Spectrum.  I live in Highlands Ranch\, Colorado\, yes\, it’s amazing to live by these stunning mountains. I love to workout\, create art\, and spend time with my family. We love to explore all Colorado has to offer\, and spend quiet evenings together. \nIt is a passion of mine to embrace Neurodiversity in Church. I love to find new ways to engage all different neuro types. My career has been devoted to Christian education in churches. I love to teach about God’s love\, and how God deeply and personally cares for each person. I have worked in christian education for the last 14 years. The first 9 were spent in youth ministry and the last 5 have been in children’s ministry. I have loved every part of the ministry I have served in these last 14 years. \nOur life is built in community. I know I will learn so much from you and your experiences as well. I cannot wait to hear some of your stories. When you come to class\, make sure to have your favorite tool of learning with you. Whether it is coloring\, fidgets\, building\, note taking\, pacing\, or listening; how you learn is welcome in class! \n\nCost: \nAPCE Member $20 \nNon-Member $35 \nAPCE Retired Educator $15 \n 
URL:https://apcenet.org/event/embracing-neurodiversity-class/
LOCATION:online
CATEGORIES:APCE Webinars,APCE Zoom Gathering,home featured events,Upcoming
ATTACH;FMTTYPE=image/png:https://apcenet.org/wp-content/uploads/2024/07/Embracing-Neurodiveristy-in-your-Ministry-and-Church.png
END:VEVENT
BEGIN:VEVENT
DTSTART;VALUE=DATE:20240815
DTEND;VALUE=DATE:20240816
DTSTAMP:20260421T070225
CREATED:20240423T003528Z
LAST-MODIFIED:20240802T004518Z
UID:68271-1723680000-1723766399@apcenet.org
SUMMARY:PC(USA) Program and Mission Course
DESCRIPTION:In partnership with the Office of Christian Formation of the Presbyterian Mission Agency\, the Association of Partners in Christian Education (APCE) is pleased to offer two online courses: Presbyterian Program and Mission and Presbyterian Polity.  The courses are available to Christian Educators in the certification process Commissioned Ruling Elders/Pastors already commissioned or in the educational phase of their preparation\, those leaders in 1001 New Worshipping Communities who are fluent in English and other leaders wanting to learn more the denomination. \nSYLLABUS Program and Mission APCE September 2024 \nCost is $100. \nIf you take this class and PC(USA) Polity class is $175.  For more information on the PC(USA) Polity: https://apcenet.org/event/pcusa-polity-course/2024-10-03     THIS OFFER HAS ENDED \n\nThe Program and Mission course will officially begin on August 15th to allow for some prep work before we begin our Zoom classes.\n\nClasses will meet on Zoom on these dates: \nThursday\, September 5th          1:00 – 3:30 ET \nThursday\, September 12th       1:00 – 3:30 ET \nThursday\, September 19th       1:00 – 3:30 ET \nThursday\, September 26th       1:00 – 3:30 ET \nFor questions or further information\, please be in touch with APCE Certification Course Coordinator Billie Sutter at billiepsutter@gmail.com. \nInformation regarding this class \nRegistration is now closed.
URL:https://apcenet.org/event/pcusa-program-and-mission-course/
LOCATION:online
CATEGORIES:Advocacy,APCE Webinars,Certification,home featured events,Upcoming
ATTACH;FMTTYPE=image/png:https://apcenet.org/wp-content/uploads/2024/04/Want-to-dip-into-the-w.png
END:VEVENT
BEGIN:VEVENT
DTSTART;TZID=America/New_York:20240919T140000
DTEND;TZID=America/New_York:20240919T150000
DTSTAMP:20260421T070225
CREATED:20240731T141717Z
LAST-MODIFIED:20240913T133250Z
UID:69066-1726754400-1726758000@apcenet.org
SUMMARY:September 2024 Book Club
DESCRIPTION:September 19- The Year of Living Biblically by A.J. Jacobs \nDo you find yourself awash in pages and pages of professional reading but very little reading for your soul\, for your self-care\, for your well of well being? Then look NO FURTHER!  APCE has just launched a Book Club for any and all members who would like to gather to read\, explore\, and dive into books both fiction and non-fiction\, “work related” and just for fun!  \n  \nThe group will meet monthly via Zoom with NO requirement to make each and every meeting! Come as you can\, enjoy the fellowship of fellow educators and simply find some respite in books! \nZoom link will be emailed out a week before and the day before\, if you do not get this email please email info@apcenet.org for Zoom link.
URL:https://apcenet.org/event/september-2024-book-club/
LOCATION:Indiana
CATEGORIES:APCE Webinars,APCE Zoom Gathering,Bookclub,home featured events,Upcoming
ATTACH;FMTTYPE=image/jpeg:https://apcenet.org/wp-content/uploads/2024/07/the-year-of-living-biblically-9780743291484_hr.jpg
END:VEVENT
BEGIN:VEVENT
DTSTART;TZID=America/New_York:20240912T190000
DTEND;TZID=America/New_York:20240912T200000
DTSTAMP:20260421T070225
CREATED:20240730T202758Z
LAST-MODIFIED:20240911T210814Z
UID:69042-1726167600-1726171200@apcenet.org
SUMMARY:Embracing Neurodiversity Class
DESCRIPTION:Class description:\nEmbracing Neurodiversity in your Ministry and Church.\n\n\nIn our ministries we are seeing more and more students who have ADHD\, Dyslexia\, and Autism. When we create spaces to welcome those on the spectrum of neurodiversity\, everyone benefits. Giving families\, children and adults the space to embrace how their brain works is a beautiful way to live into God’s dream. We will cover basic tools and strategies in Christian Education for Neurodiversity and how to partner with families. There are practical ways we can create space for kids and adults in our communities\, and I would love to share them with you. These are tools you can take back to your church and feel equipped to welcome neurodiversity into your church home. \nAllie Atchison is the director of children and family ministries at New Hope Presbyterian church in Castle Rock Colorado. I am dyslexic\, who married a man with ADHD and we are raising a thoughtful and kind little girl who is on the Autism Spectrum.  I live in Highlands Ranch\, Colorado\, yes\, it’s amazing to live by these stunning mountains. I love to workout\, create art\, and spend time with my family. We love to explore all Colorado has to offer\, and spend quiet evenings together. \nIt is a passion of mine to embrace Neurodiversity in Church. I love to find new ways to engage all different neuro types. My career has been devoted to Christian education in churches. I love to teach about God’s love\, and how God deeply and personally cares for each person. I have worked in christian education for the last 14 years. The first 9 were spent in youth ministry and the last 5 have been in children’s ministry. I have loved every part of the ministry I have served in these last 14 years. \nOur life is built in community. I know I will learn so much from you and your experiences as well. I cannot wait to hear some of your stories. When you come to class\, make sure to have your favorite tool of learning with you. Whether it is coloring\, fidgets\, building\, note taking\, pacing\, or listening; how you learn is welcome in class! \n\nCost: \nAPCE Member $20 \nNon-Member $35 \nAPCE Retired Educator $15 \n 
URL:https://apcenet.org/event/embracing-neurodiversity-class/
LOCATION:online
CATEGORIES:APCE Webinars,APCE Zoom Gathering,home featured events,Upcoming
ATTACH;FMTTYPE=image/png:https://apcenet.org/wp-content/uploads/2024/07/Embracing-Neurodiveristy-in-your-Ministry-and-Church.png
END:VEVENT
BEGIN:VEVENT
DTSTART;VALUE=DATE:20240815
DTEND;VALUE=DATE:20240816
DTSTAMP:20260421T070225
CREATED:20240423T003528Z
LAST-MODIFIED:20240802T004518Z
UID:68271-1723680000-1723766399@apcenet.org
SUMMARY:PC(USA) Program and Mission Course
DESCRIPTION:In partnership with the Office of Christian Formation of the Presbyterian Mission Agency\, the Association of Partners in Christian Education (APCE) is pleased to offer two online courses: Presbyterian Program and Mission and Presbyterian Polity.  The courses are available to Christian Educators in the certification process Commissioned Ruling Elders/Pastors already commissioned or in the educational phase of their preparation\, those leaders in 1001 New Worshipping Communities who are fluent in English and other leaders wanting to learn more the denomination. \nSYLLABUS Program and Mission APCE September 2024 \nCost is $100. \nIf you take this class and PC(USA) Polity class is $175.  For more information on the PC(USA) Polity: https://apcenet.org/event/pcusa-polity-course/2024-10-03     THIS OFFER HAS ENDED \n\nThe Program and Mission course will officially begin on August 15th to allow for some prep work before we begin our Zoom classes.\n\nClasses will meet on Zoom on these dates: \nThursday\, September 5th          1:00 – 3:30 ET \nThursday\, September 12th       1:00 – 3:30 ET \nThursday\, September 19th       1:00 – 3:30 ET \nThursday\, September 26th       1:00 – 3:30 ET \nFor questions or further information\, please be in touch with APCE Certification Course Coordinator Billie Sutter at billiepsutter@gmail.com. \nInformation regarding this class \nRegistration is now closed.
URL:https://apcenet.org/event/pcusa-program-and-mission-course/
LOCATION:online
CATEGORIES:Advocacy,APCE Webinars,Certification,home featured events,Upcoming
ATTACH;FMTTYPE=image/png:https://apcenet.org/wp-content/uploads/2024/04/Want-to-dip-into-the-w.png
END:VEVENT
BEGIN:VEVENT
DTSTART;TZID=America/New_York:20240926T170000
DTEND;TZID=America/New_York:20240926T180000
DTSTAMP:20260421T070225
CREATED:20240910T161327Z
LAST-MODIFIED:20240910T161328Z
UID:70417-1727370000-1727373600@apcenet.org
SUMMARY:Retired Educators’ Connections
DESCRIPTION:A time for informal conversation to stay connected to long-time friends and make new ones. \nIf you would like to participate\, please email info@apcenet.org for the zoom link.
URL:https://apcenet.org/event/retired-educators-connections-5/
LOCATION:Indiana
CATEGORIES:APCE Webinars,home featured events,Networks,Upcoming
ATTACH;FMTTYPE=image/png:https://apcenet.org/wp-content/uploads/2024/09/NOVEMBER-1.png
END:VEVENT
BEGIN:VEVENT
DTSTART;TZID=America/New_York:20240912T190000
DTEND;TZID=America/New_York:20240912T200000
DTSTAMP:20260421T070225
CREATED:20240730T202758Z
LAST-MODIFIED:20240911T210814Z
UID:69042-1726167600-1726171200@apcenet.org
SUMMARY:Embracing Neurodiversity Class
DESCRIPTION:Class description:\nEmbracing Neurodiversity in your Ministry and Church.\n\n\nIn our ministries we are seeing more and more students who have ADHD\, Dyslexia\, and Autism. When we create spaces to welcome those on the spectrum of neurodiversity\, everyone benefits. Giving families\, children and adults the space to embrace how their brain works is a beautiful way to live into God’s dream. We will cover basic tools and strategies in Christian Education for Neurodiversity and how to partner with families. There are practical ways we can create space for kids and adults in our communities\, and I would love to share them with you. These are tools you can take back to your church and feel equipped to welcome neurodiversity into your church home. \nAllie Atchison is the director of children and family ministries at New Hope Presbyterian church in Castle Rock Colorado. I am dyslexic\, who married a man with ADHD and we are raising a thoughtful and kind little girl who is on the Autism Spectrum.  I live in Highlands Ranch\, Colorado\, yes\, it’s amazing to live by these stunning mountains. I love to workout\, create art\, and spend time with my family. We love to explore all Colorado has to offer\, and spend quiet evenings together. \nIt is a passion of mine to embrace Neurodiversity in Church. I love to find new ways to engage all different neuro types. My career has been devoted to Christian education in churches. I love to teach about God’s love\, and how God deeply and personally cares for each person. I have worked in christian education for the last 14 years. The first 9 were spent in youth ministry and the last 5 have been in children’s ministry. I have loved every part of the ministry I have served in these last 14 years. \nOur life is built in community. I know I will learn so much from you and your experiences as well. I cannot wait to hear some of your stories. When you come to class\, make sure to have your favorite tool of learning with you. Whether it is coloring\, fidgets\, building\, note taking\, pacing\, or listening; how you learn is welcome in class! \n\nCost: \nAPCE Member $20 \nNon-Member $35 \nAPCE Retired Educator $15 \n 
URL:https://apcenet.org/event/embracing-neurodiversity-class/
LOCATION:online
CATEGORIES:APCE Webinars,APCE Zoom Gathering,home featured events,Upcoming
ATTACH;FMTTYPE=image/png:https://apcenet.org/wp-content/uploads/2024/07/Embracing-Neurodiveristy-in-your-Ministry-and-Church.png
END:VEVENT
BEGIN:VEVENT
DTSTART;VALUE=DATE:20240930
DTEND;VALUE=DATE:20241003
DTSTAMP:20260421T070225
CREATED:20231213T222508Z
LAST-MODIFIED:20240805T190145Z
UID:63891-1727654400-1727913599@apcenet.org
SUMMARY:SCRAPCE Fall Event - with David Lamotte!
DESCRIPTION:You won’t want to miss the SCRAPCE Fall Event – with David Lamotte! \nThe theme is “Stumbling Toward the Light Changing the World” \nJoin us at Austin Seminary from Sept 30 – Oct 2\, 2024 – make sure to mark your calendars now! \nStumbling toward the Light: Changing Our World – Austin Presbyterian Theological Seminary (austinseminary.edu)
URL:https://apcenet.org/event/scrapce-fall-event-with-david-lamotte/
LOCATION:Austin Presbyterian Theological Seminary\, 100 E. 27th Street\, austin\, TX\, 78705
CATEGORIES:home featured events,South Central Region,Upcoming
ATTACH;FMTTYPE=image/jpeg:https://apcenet.org/wp-content/uploads/2023/12/409191093_682010064113054_2991118884034899869_n.jpg
ORGANIZER;CN="South Central Region of APCE":MAILTO:SCRAPCE.TEAM@GMAIL.COM
END:VEVENT
END:VCALENDAR